BEGIN:VCALENDAR
VERSION:2.0
PRODID:-//www.muensingen.ch//NONSGML kigkonsult.se iCalcreator 2.22//
CALSCALE:GREGORIAN
METHOD:PUBLISH
X-WR-TIMEZONE:Europe/Berlin
BEGIN:VEVENT
UID:20260421T103757CEST-76118JcKo8@www.muensingen.ch
DTSTAMP:20260421T083757Z
DESCRIPTION:Klicken Sie auf den folgenden Link\, um weitere Informationen z
 ur Veranstaltung zu erhalten:\nhttp://www.muensingen.ch/de/veranstaltungen
 /detail/detail.php?i=4225
DTSTART:20260328T160000
DTEND:20260328T180000
LOCATION:Turnhalle Nord/Süd Schlossmatt
SUMMARY:Offene Turnhalle @MoonlightKIDS
END:VEVENT
END:VCALENDAR
