BEGIN:VCALENDAR
VERSION:2.0
PRODID:-//www.muensingen.ch//NONSGML kigkonsult.se iCalcreator 2.22//
CALSCALE:GREGORIAN
METHOD:PUBLISH
X-WR-TIMEZONE:Europe/Berlin
BEGIN:VEVENT
UID:20260421T142622CEST-5348NvgSiu@www.muensingen.ch
DTSTAMP:20260421T122622Z
DESCRIPTION:Klicken Sie auf den folgenden Link\, um weitere Informationen z
 ur Veranstaltung zu erhalten:\nhttp://www.muensingen.ch/de/veranstaltungen
 /detail/detail.php?i=4429
DTSTART:20260326T143000
DTEND:20260326T170000
LOCATION:Kirchgemeindehaus
SUMMARY:ELKi-Treff
END:VEVENT
END:VCALENDAR
