BEGIN:VCALENDAR
VERSION:2.0
PRODID:-//www.muensingen.ch//NONSGML kigkonsult.se iCalcreator 2.22//
CALSCALE:GREGORIAN
METHOD:PUBLISH
X-WR-TIMEZONE:Europe/Berlin
BEGIN:VEVENT
UID:20260421T102015CEST-4017L0jOF8@www.muensingen.ch
DTSTAMP:20260421T082015Z
DESCRIPTION:Klicken Sie auf den folgenden Link\, um weitere Informationen z
 ur Veranstaltung zu erhalten:\nhttp://www.muensingen.ch/de/veranstaltungen
 /detail/detail.php?i=4579
DTSTART:20260406T133000
DTEND:20260406T173000
LOCATION:Areal PZM
SUMMARY:Dampfbahn Aaretal - Ostermontag / Saisoneröffnung 2026 - öffentlich
 er Fahrtag
END:VEVENT
END:VCALENDAR
