BEGIN:VCALENDAR
VERSION:2.0
PRODID:-//www.muensingen.ch//NONSGML kigkonsult.se iCalcreator 2.22//
CALSCALE:GREGORIAN
METHOD:PUBLISH
X-WR-TIMEZONE:Europe/Berlin
BEGIN:VEVENT
UID:20260421T103828CEST-87717MJcP3@www.muensingen.ch
DTSTAMP:20260421T083828Z
DESCRIPTION:Klicken Sie auf den folgenden Link\, um weitere Informationen z
 ur Veranstaltung zu erhalten:\nhttp://www.muensingen.ch/de/veranstaltungen
 /detail/detail.php?i=4621
DTSTART:20260306T200000
DTEND:20260308T180000
LOCATION:Mehrzweckhalle am Bach Wichtrach
SUMMARY:Grosslotto EHC WIKI-Münsingen
END:VEVENT
END:VCALENDAR
