BEGIN:VCALENDAR
VERSION:2.0
PRODID:-//www.muensingen.ch//NONSGML kigkonsult.se iCalcreator 2.22//
CALSCALE:GREGORIAN
METHOD:PUBLISH
X-WR-TIMEZONE:Europe/Berlin
BEGIN:VEVENT
UID:20260423T101029CEST-9912bT0ESd@www.muensingen.ch
DTSTAMP:20260423T081029Z
DESCRIPTION:Klicken Sie auf den folgenden Link\, um weitere Informationen z
 ur Veranstaltung zu erhalten:\nhttp://www.muensingen.ch/de/veranstaltungen
 /detail/detail.php?i=4760
DTSTART:20260309T193000
DTEND:20260309T203000
LOCATION:Kindergarten Dorfmatt
SUMMARY:Musizierstunde Klavier Klasse von Dave Scherler
END:VEVENT
END:VCALENDAR
