BEGIN:VCALENDAR
VERSION:2.0
PRODID:-//www.muensingen.ch//NONSGML kigkonsult.se iCalcreator 2.22//
CALSCALE:GREGORIAN
METHOD:PUBLISH
X-WR-TIMEZONE:Europe/Berlin
BEGIN:VEVENT
UID:20260421T120311CEST-3690JP1cuc@www.muensingen.ch
DTSTAMP:20260421T100311Z
DESCRIPTION:Klicken Sie auf den folgenden Link\, um weitere Informationen z
 ur Veranstaltung zu erhalten:\nhttp://www.muensingen.ch/de/veranstaltungen
 /detail/detail.php?i=4783
DTSTART:20260430T190000
DTEND:20260430T200000
LOCATION:Bärenmatte 
SUMMARY:Musizierstunde Klavier Klasse von Tina Sieber Brcic
END:VEVENT
END:VCALENDAR
