BEGIN:VCALENDAR
VERSION:2.0
PRODID:-//www.muensingen.ch//NONSGML kigkonsult.se iCalcreator 2.22//
CALSCALE:GREGORIAN
METHOD:PUBLISH
X-WR-TIMEZONE:Europe/Berlin
BEGIN:VEVENT
UID:20260421T120055CEST-8798ZVth8T@www.muensingen.ch
DTSTAMP:20260421T100055Z
DESCRIPTION:Klicken Sie auf den folgenden Link\, um weitere Informationen z
 ur Veranstaltung zu erhalten:\nhttp://www.muensingen.ch/de/veranstaltungen
 /detail/detail.php?i=4784
DTSTART:20260604T190000
DTEND:20260604T200000
LOCATION:Haus Verein Schlossstrasse 5
SUMMARY:Musizierstunde Geige & Cello Klassen von Nevena Tochev & Thomas Fla
 chaire
END:VEVENT
END:VCALENDAR
