BEGIN:VCALENDAR
VERSION:2.0
PRODID:-//www.muensingen.ch//NONSGML kigkonsult.se iCalcreator 2.22//
CALSCALE:GREGORIAN
METHOD:PUBLISH
X-WR-TIMEZONE:Europe/Berlin
BEGIN:VEVENT
UID:20260421T120710CEST-9314efzVgA@www.muensingen.ch
DTSTAMP:20260421T100710Z
DESCRIPTION:Klicken Sie auf den folgenden Link\, um weitere Informationen z
 ur Veranstaltung zu erhalten:\nhttp://www.muensingen.ch/de/veranstaltungen
 /detail/detail.php?i=4786
DTSTART:20260605T190000
DTEND:20260605T220000
LOCATION:Ökogärtnerei Maurer
SUMMARY:JazzNights
END:VEVENT
END:VCALENDAR
