BEGIN:VCALENDAR
VERSION:2.0
PRODID:-//www.muensingen.ch//NONSGML kigkonsult.se iCalcreator 2.22//
CALSCALE:GREGORIAN
METHOD:PUBLISH
X-WR-TIMEZONE:Europe/Berlin
BEGIN:VEVENT
UID:20260421T120542CEST-6228hu5wdB@www.muensingen.ch
DTSTAMP:20260421T100542Z
DESCRIPTION:Klicken Sie auf den folgenden Link\, um weitere Informationen z
 ur Veranstaltung zu erhalten:\nhttp://www.muensingen.ch/de/veranstaltungen
 /detail/detail.php?i=4787
DTSTART:20260606T190000
DTEND:20260606T220000
LOCATION:Ökogärtnerei Maurer
SUMMARY:JazzNights
END:VEVENT
END:VCALENDAR
