BEGIN:VCALENDAR
VERSION:2.0
PRODID:-//www.muensingen.ch//NONSGML kigkonsult.se iCalcreator 2.22//
CALSCALE:GREGORIAN
METHOD:PUBLISH
X-WR-TIMEZONE:Europe/Berlin
BEGIN:VEVENT
UID:20260420T122943CEST-49223pUX4d@www.muensingen.ch
DTSTAMP:20260420T102943Z
DESCRIPTION:Klicken Sie auf den folgenden Link\, um weitere Informationen z
 ur Veranstaltung zu erhalten:\nhttp://www.muensingen.ch/de/veranstaltungen
 /detail/detail.php?i=4824
DTSTART:20260621T150000
DTEND:20260621T180000
LOCATION:Schlossgutplatz
SUMMARY:Fête de la musique / Tag der Musik
END:VEVENT
END:VCALENDAR
